BEGIN:VCALENDAR
PRODID:-//eluceo/ical//2.0/EN
VERSION:2.0
CALSCALE:GREGORIAN
BEGIN:VEVENT
UID:event-196
DTSTAMP:20260423T112007Z
SUMMARY:Daily Board Registrations Open!
DESCRIPTION:Are you ready for a new adventure? From today until April 27th\
 , you can apply to become a member of the 25th Daily Board of Flow for the
  2026-2027 academic year! As a Daily Board member\, you will help run the
  association and oversee everything related to Flow. It is a year filled 
 with meeting new people and participating in exciting activities\, but als
 o an incredible opportunity to develop new skills and expand your professi
 onal network. The Daily Board of Flow consists of six members: Chair Secre
 tary Treasurer Internal Affairs  External Affairs  Educational Affairs 
  Feel free to reach out if you have any questions or want more information
  about a board year or a specific position! If you already know someone on
  the board\, you can send them a message. Otherwise\, you can email secret
 ary@svflow.nl or visit the Flow room (E.203) on weekdays between 10:00 and
  17:00. To apply\, please email your CV and a motivation letter to secret
 ary@svflow.nl that includes: Why do you want to be a Daily Board member Wh
 at makes you a suitable candidate If you already prefer a position\, which
  one and why The application deadline is April 27th at 10:00. After submit
 ting your application\, we will contact you to schedule an interview. Good
  luck\, and we hope to see your applications soon!
DTSTART:20260420T080000Z
DTEND:20260427T080000Z
END:VEVENT
BEGIN:VTIMEZONE
TZID:UTC
BEGIN:STANDARD
DTSTART:20260420T080000
TZNAME:UTC
TZOFFSETTO:+0000
TZOFFSETFROM:+0000
END:STANDARD
END:VTIMEZONE
END:VCALENDAR
